BEGIN:VCALENDAR
VERSION:2.0
PRODID:-//Squarespace Inc/Squarespace 6//v6//EN
BEGIN:VEVENT
UID:5d9e5d1b1006772311fee06e@squarespace.com
DTSTAMP:20191205T001140Z
DTSTART:20191112T223000Z
DTEND:20191117T233000Z
SUMMARY:Wheels for Meals Bike Ride
END:VEVENT
END:VCALENDAR
