BEGIN:VCALENDAR
VERSION:2.0
PRODID:-//Squarespace Inc/Squarespace 6//v6//EN
BEGIN:VEVENT
UID:5d7f1ddff9931765606861c0@squarespace.com
DTSTAMP:20191205T010231Z
DTSTART:20191025T083000Z
DTEND:20191025T103000Z
SUMMARY:Degustation for Dignity
END:VEVENT
END:VCALENDAR
