BEGIN:VCALENDAR
VERSION:2.0
PRODID:-//Squarespace Inc/Squarespace 6//v6//EN
BEGIN:VEVENT
UID:5d9e5ec71566323b78608333@squarespace.com
DTSTAMP:20191205T010827Z
DTSTART:20191224T223000Z
DTEND:20191224T233000Z
SUMMARY:The Big Give
END:VEVENT
END:VCALENDAR
